BEGIN:VCALENDAR
VERSION:2.0
PRODID:-//ChamberMaster//Event Calendar 2.0//EN
METHOD:PUBLISH
X-PUBLISHED-TTL:P3D
REFRESH-INTERVAL:P3D
CALSCALE:GREGORIAN
BEGIN:VEVENT
DTSTART:20250508T143000Z
DTEND:20250508T160000Z
X-MICROSOFT-CDO-ALLDAYEVENT:FALSE
SUMMARY:AM Connect - Huntington Harbor Yacht Club
DESCRIPTION:Make Meaningful Connections This May at A.M. Connect!\n\nAs we move into May\, it's the perfect time to grow your network and spark new opportunities! Join us for our monthly A.M. Connect event an energizing morning of networking\, learning\, and community engagement with fellow business professionals.\n\nFeatured Guest Speakers:\n\n\n	\n	Molly Uemura\n	\n	\n	Stacey Newton\n	\n\n\nLocation:\n\nHuntington Harbour Yacht Club\n\n3821 Warner Ave\, Huntington Beach\, CA 92649\n\nEnjoy Breakfast & Coffee:\n\nStart your morning with a delicious breakfast and hot coffee while building valuable connections with local business leaders and professionals.\n\nLend a Helping Hand to Survivors of Trafficking   Bring a Donation Item:\n\nThis May\, we're continuing our partnership with the Robert Mayer Leadership Academy and Waymakers to collect donations for survivors of human trafficking. Please consider bringing an unused donation item to drop off at check-in.\n\nDon't miss out mark your calendar for the May A.M. Connect! We look forward to seeing you there.
X-ALT-DESC;FMTTYPE=text/html:<p data-end="388" data-start="85"><strong data-end="142" data-start="85">Make Meaningful Connections This May at A.M. Connect!</strong><br data-end="145" data-start="142" />\nAs we move into May\, it&#39\;s the perfect time to grow your network and spark new opportunities! Join us for our monthly A.M. Connect event&mdash\;an energizing morning of networking\, learning\, and community engagement with fellow business professionals.</p>\n\n<p data-end="420" data-start="390"><strong data-end="418" data-start="390">Featured Guest Speakers:</strong></p>\n\n<ul data-end="472" data-start="421">\n	<li data-end="437" data-start="421">\n	<p data-end="437" data-start="423">Molly Uemura</p>\n	</li>\n	<li data-end="455" data-start="438">\n	<p data-end="455" data-start="440">Stacey Newton</p>\n	</li>\n</ul>\n\n<p data-end="565" data-start="474"><strong data-end="487" data-start="474">Location:</strong><br data-end="490" data-start="487" />\nHuntington Harbour Yacht Club<br data-end="522" data-start="519" />\n3821 Warner Ave\, Huntington Beach\, CA 92649</p>\n\n<p data-end="774" data-start="567"><strong data-end="596" data-start="567">Enjoy Breakfast &amp\; Coffee:</strong><br data-end="599" data-start="596" />\nStart your morning with a delicious breakfast and hot coffee while building valuable connections with local business leaders and professionals.</p>\n\n<p data-end="1083" data-start="776"><strong data-end="852" data-start="776">Lend a Helping Hand to Survivors of Trafficking &ndash\; Bring a Donation Item:</strong><br data-end="855" data-start="852" />\nThis May\, we&rsquo\;re continuing our partnership with the Robert Mayer Leadership Academy and Waymakers to collect donations for survivors of human trafficking. Please consider bringing an unused donation item to drop off at check-in.</p>\n\n<p data-end="1185" data-start="1085"><strong data-end="1185" data-start="1085">Don&rsquo\;t miss out&mdash\;mark your calendar for the May A.M. Connect! We look forward to seeing you there.</strong></p>\n
LOCATION:Huntington Harbor Yacht Club 3821 Warner Ave Huntington Beach\, CA 92649
UID:e.745.14909
SEQUENCE:3
DTSTAMP:20260424T004629Z
URL:http://chamber.hbchamber.com/events/details/am-connect-huntington-harbor-yacht-club-14909
END:VEVENT

END:VCALENDAR
