BEGIN:VCALENDAR
VERSION:2.0
PRODID:-//ChamberMaster//Event Calendar 2.0//EN
METHOD:PUBLISH
X-PUBLISHED-TTL:P3D
REFRESH-INTERVAL:P3D
CALSCALE:GREGORIAN
BEGIN:VEVENT
DTSTART:20250612T143000Z
DTEND:20250612T160000Z
X-MICROSOFT-CDO-ALLDAYEVENT:FALSE
SUMMARY:AM Connect - June 12th
DESCRIPTION:As we move into June\, it's the perfect time to grow your network and spark new opportunities. Join us for our monthly A.M. Connect an energizing morning of networking\, learning\, and community engagement with fellow business professionals.\n\nFeatured Guest Speakers:\n\nEric McCoy\, Huntington Beach Fire Chief\n\nTravis Hopkins\, Huntington Beach City Manager\n\nLocation:\n\nGolden West College   Criminal Justice Multipurpose Room\n\n15744 Goldenwest St\, Huntington Beach\, CA 92647\n\nEnjoy Breakfast & Coffee:\n\nEnjoy a delicious breakfast and fresh coffee\, provided by Duke's Huntington Beach\, while connecting with local professionals and community leaders.\n\nParking Information:\n\nPlease pre-pay for parking by downloading the Passport Parking App prior to the event to ensure a smooth arrival.\n\nDon't miss out mark your calendar for our June AM Connect.\n\nWe look forward to seeing you there!
X-ALT-DESC;FMTTYPE=text/html:<p data-end="388" data-start="85" style="text-align: center\;">As we move into June\, it&#39\;s the perfect time to grow your network and spark new opportunities. Join us for our monthly A.M. Connect&mdash\;an energizing morning of networking\, learning\, and community engagement with fellow business professionals.</p>\n\n<p data-end="420" data-start="390" style="text-align: center\;"><strong data-end="418" data-start="390">Featured Guest Speakers:</strong></p>\n\n<p data-end="420" data-start="390" style="text-align: center\;">Eric McCoy\, Huntington Beach Fire Chief</p>\n\n<p data-end="420" data-start="390" style="text-align: center\;">Travis Hopkins\, Huntington Beach City Manager</p>\n\n<p data-end="565" data-start="474" style="text-align: center\;"><strong data-end="487" data-start="474">Location:</strong><br data-end="490" data-start="487" />\nGolden West College &ndash\; Criminal Justice Multipurpose Room<br data-end="628" data-start="625" />\n15744 Goldenwest St\, Huntington Beach\, CA 92647</p>\n\n<p data-end="774" data-start="567" style="text-align: center\;"><strong data-end="596" data-start="567">Enjoy Breakfast &amp\; Coffee:</strong><br data-end="599" data-start="596" />\nEnjoy a delicious breakfast and fresh coffee\, provided by Duke&rsquo\;s Huntington Beach\, while connecting with local professionals and community leaders.</p>\n\n<p data-end="1083" data-start="776" style="text-align: center\;"><b>Parking Information:</b></p>\n\n<p style="text-align: center\;">Please pre-pay for parking by downloading the Passport Parking App prior to the event to ensure a smooth arrival.</p>\n\n<p data-end="1185" data-start="1085" style="text-align: center\;">Don&rsquo\;t miss out&mdash\;mark your calendar for our June AM Connect.</p>\n\n<p data-end="1185" data-start="1085" style="text-align: center\;">We look forward to seeing you there!</p>\n
LOCATION:Golden West College Criminal Justice Multipurpose Room 100 Interactive campus map *Pre-Pay Parking by Downloading the Passport Parking App
UID:e.745.14910
SEQUENCE:3
DTSTAMP:20260423T233838Z
URL:http://chamber.hbchamber.com/events/details/am-connect-june-12th-14910
END:VEVENT

END:VCALENDAR
