BEGIN:VCALENDAR
VERSION:2.0
PRODID:-//ChamberMaster//Event Calendar 2.0//EN
METHOD:PUBLISH
X-PUBLISHED-TTL:P3D
REFRESH-INTERVAL:P3D
CALSCALE:GREGORIAN
BEGIN:VEVENT
DTSTART;VALUE=DATE:20010908
DTEND;VALUE=DATE:20010910
TRANSP:TRANSPARENT
X-MICROSOFT-CDO-ALLDAYEVENT:TRUE
SUMMARY:Community Event - Surf City Art Show 9/28/2001
DESCRIPTION:
X-ALT-DESC;FMTTYPE=text/html:
LOCATION:Pat Davis 714-374-1951
UID:e.745.26
SEQUENCE:3
DTSTAMP:20260419T171918Z
URL:http://chamber.hbchamber.com/events/details/community-event-surf-city-art-show-9-28-2001-09-08-2001-26
END:VEVENT

END:VCALENDAR
