BEGIN:VCALENDAR
VERSION:2.0
PRODID:-//ChamberMaster//Event Calendar 2.0//EN
METHOD:PUBLISH
X-PUBLISHED-TTL:P3D
REFRESH-INTERVAL:P3D
CALSCALE:GREGORIAN
BEGIN:VEVENT
DTSTART;VALUE=DATE:20000908
DTEND;VALUE=DATE:20000911
TRANSP:TRANSPARENT
X-MICROSOFT-CDO-ALLDAYEVENT:TRUE
SUMMARY:Community Event - Surf CIty Art Show 9/8/2000
DESCRIPTION:$20 per item/must rent pop up for $50 extra if renting spaces
X-ALT-DESC;FMTTYPE=text/html:$20 per item/must rent pop up for $50 extra if renting spaces
LOCATION:Pier Plaza
UID:e.745.14
SEQUENCE:3
DTSTAMP:20260420T100622Z
URL:http://chamber.hbchamber.com/events/details/community-event-surf-city-art-show-9-8-2000-09-08-2000-14
END:VEVENT

END:VCALENDAR
