BEGIN:VCALENDAR
VERSION:2.0
PRODID:-//ChamberMaster//Event Calendar 2.0//EN
METHOD:PUBLISH
X-PUBLISHED-TTL:P3D
REFRESH-INTERVAL:P3D
CALSCALE:GREGORIAN
BEGIN:VEVENT
DTSTART;VALUE=DATE:20000909
DTEND;VALUE=DATE:20000911
TRANSP:TRANSPARENT
X-MICROSOFT-CDO-ALLDAYEVENT:TRUE
SUMMARY:Community Event - Surf CIty Art Show 9/9/2000
DESCRIPTION:$350 deposit must be made
X-ALT-DESC;FMTTYPE=text/html:$350 deposit must be made
LOCATION:Pier Plaza
UID:e.745.15
SEQUENCE:3
DTSTAMP:20260420T132914Z
URL:http://chamber.hbchamber.com/events/details/community-event-surf-city-art-show-9-9-2000-09-09-2000-15
END:VEVENT

END:VCALENDAR
