BEGIN:VCALENDAR
VERSION:2.0
PRODID:-//ChamberMaster//Event Calendar 2.0//EN
METHOD:PUBLISH
X-PUBLISHED-TTL:P3D
REFRESH-INTERVAL:P3D
CALSCALE:GREGORIAN
BEGIN:VEVENT
DTSTART:20250611T000000Z
DTEND:20250611T030000Z
X-MICROSOFT-CDO-ALLDAYEVENT:FALSE
SUMMARY:Dinner Session: Maximize Your Business Valuation: When You Exit\, You Leave a True Legacy
DESCRIPTION:Join Chatterton Founder Robert D. Chatterton\, ChFC \, CFP \, CEPA \, Parker Schweich\, Esq.\, (Stradling Yocca Carlson & Rauth LLP)\, and Matt Manavi\, MBA\, CBB\, CBI\, M&AMI\, CMAP (Transworld Business Advisors)\, as they share strategies to grow your business value\, preserve your assets\, and secure your legacy.\n\nIn this exclusive workshop\, you'll learn:\n\n  What buyers truly want   and what they'll pay a premium for\n\n  The 8 key drivers of Enterprise Value and strategies for improving them\n\n  How to position your business as "Best in Class" for profits and valuation\n\n  Plus: Learn the legal and M&A strategies that preserve your wealth and guide a smooth business exit. Whether you're thinking about exiting soon or are in planning stages\, this event is for you.\n\nDinner will be provided. Join us for this event and ensure your legacy lives on.\n\nRegister Now by calling 714-512-3600.\n\nDinner 5 p.m.   8 p.m.
X-ALT-DESC;FMTTYPE=text/html:<p>Join Chatterton Founder Robert D. Chatterton\, ChFC&reg\;\, CFP&reg\;\, CEPA&reg\;\, Parker Schweich\, Esq.\, (Stradling Yocca Carlson &amp\; Rauth LLP)\, and Matt Manavi\, MBA\, CBB\, CBI\, M&amp\;AMI\, CMAP (Transworld Business Advisors)\, as they share strategies to grow your business value\, preserve your assets\, and secure your legacy.<br />\nIn this exclusive workshop\, you&rsquo\;ll learn:</p>\n\n<p>&bull\; What buyers truly want &ndash\; and what they&rsquo\;ll pay a premium for</p>\n\n<p>&bull\; The 8 key drivers of Enterprise Value and strategies for improving them</p>\n\n<p>&bull\; How to position your business as &ldquo\;Best in Class&rdquo\; for profits and valuation</p>\n\n<p>&bull\; Plus: Learn the legal and M&amp\;A strategies that preserve your wealth and guide a smooth business exit. Whether you&rsquo\;re thinking about exiting soon or are in planning stages\, this event is for you.</p>\n\n<p><strong>Dinner will be provided. Join us for this event and ensure your legacy lives on.</strong></p>\n\n<p>Register Now by calling 714-512-3600.</p>\n\n<p>Dinner 5 p.m. &ndash\; 8 p.m.</p>\n
LOCATION:AV Irvine 16500 Scientific Way Irvine\, CA 92618
UID:e.745.15329
SEQUENCE:3
DTSTAMP:20260423T234143Z
URL:http://chamber.hbchamber.com/events/details/dinner-session-maximize-your-business-valuation-when-you-exit-you-leave-a-true-legacy-15329
END:VEVENT

END:VCALENDAR
