BEGIN:VCALENDAR
VERSION:2.0
PRODID:-//ChamberMaster//Event Calendar 2.0//EN
METHOD:PUBLISH
X-PUBLISHED-TTL:P3D
REFRESH-INTERVAL:P3D
CALSCALE:GREGORIAN
BEGIN:VEVENT
DTSTART:20251005T003000Z
DTEND:20251005T050000Z
X-MICROSOFT-CDO-ALLDAYEVENT:FALSE
SUMMARY:Friends of Pathways 29th Annual Fundraiser Rodeo Roundup
DESCRIPTION:Saddle up for a night of flavor and fun under the stars with 35 local restaurants\, live music from Gold Rush Country\, live auction and line dancing to boot!
X-ALT-DESC;FMTTYPE=text/html:Saddle up for a night of flavor and fun under the stars with 35 local restaurants\, live music from Gold Rush Country\, live auction and line dancing to boot!
LOCATION:California State University Long Beach 6300 State University Drive Long Beach\, CA 90840
UID:e.745.15340
SEQUENCE:3
DTSTAMP:20260423T184927Z
URL:http://chamber.hbchamber.com/events/details/friends-of-pathways-29th-annual-fundraiser-rodeo-roundup-15340
END:VEVENT

END:VCALENDAR
