BEGIN:VCALENDAR
VERSION:2.0
PRODID:-//ChamberMaster//Event Calendar 2.0//EN
METHOD:PUBLISH
X-PUBLISHED-TTL:P3D
REFRESH-INTERVAL:P3D
CALSCALE:GREGORIAN
BEGIN:VEVENT
DTSTART:20250610T150000Z
DTEND:20250610T160000Z
X-MICROSOFT-CDO-ALLDAYEVENT:FALSE
SUMMARY:GAC Committee Virtual Legislative update with Assemblymember Diane Dixon
DESCRIPTION:Legislative Update with Assemblymember Diane Dixon\, hosted by the HB Chamber Government Affairs Committee. Stay informed about legislative changes that could affect businesses.
X-ALT-DESC;FMTTYPE=text/html:Legislative Update with Assemblymember Diane Dixon\, hosted by the HB Chamber Government Affairs Committee. Stay informed about legislative changes that could affect businesses.
LOCATION:Online Webinar over zoom. Join Zoom Meeting https://us02web.zoom.us/j/89017005049?pwd=jFIsMwF8ieq95qnEwZ4XO2iXg7Ubob.1 Meeting ID: 890 1700 5049 Passcode: 311235 --- One tap mobile +16699009128\,\,89017005049#\,\,\,\,*311235# US (San Jose) +16694449171\,\,89017005049#\,\,\,\,*311235# US --- Dial by your location +1 669 900 9128 US (San Jose) +1 669 444 9171 US +1 719 359 4580 US +1 253 205 0468 US +1 253 215 8782 US (Tacoma) +1 346 248 7799 US (Houston) +1 507 473 4847 US +1 564 217 2000 US +1 646 558 8656 US (New York) +1 646 931 3860 US +1 689 278 1000 US +1 301 715 8592 US (Washington DC) +1 305 224 1968 US +1 309 205 3325 US +1 312 626 6799 US (Chicago) +1 360 209 5623 US +1 386 347 5053 US Meeting ID: 890 1700 5049 Passcode: 311235 Find your local number: https://us02web.zoom.us/u/kZCGUlpWx
UID:e.745.15330
SEQUENCE:3
DTSTAMP:20260423T234137Z
URL:http://chamber.hbchamber.com/events/details/gac-committee-virtual-legislative-update-with-assemblymember-diane-dixon-15330
END:VEVENT

END:VCALENDAR
