BEGIN:VCALENDAR
VERSION:2.0
PRODID:-//ChamberMaster//Event Calendar 2.0//EN
METHOD:PUBLISH
X-PUBLISHED-TTL:P3D
REFRESH-INTERVAL:P3D
CALSCALE:GREGORIAN
BEGIN:VEVENT
DTSTART:20260224T160000Z
DTEND:20260224T170000Z
X-MICROSOFT-CDO-ALLDAYEVENT:FALSE
SUMMARY:HBCOC _GAC Committee Virtual Legislative Update Briefing
DESCRIPTION:Join us on Zoom for a special conversation with local and state legislative leaders as they share updates on key issues impacting our community. Hear directly from representatives including Austin Edsel\, Michelle Schultz\, Hunter Griffins\, Zachariah Jauregui\, and Chip Ahlswede\, and gain valuable insight from their respective offices. This is your opportunity to engage\, ask questions\, and be part of the discussion. After registering\, please email your questions in advance to HBCOC@HBCOC.com.
X-ALT-DESC;FMTTYPE=text/html:<span style="font-size:14px\;"><span style="font-family:arial\;"><span style="color: rgb(0\, 0\, 0)\;">Join us on Zoom for a special conversation with local and state legislative leaders as they share updates on key issues impacting our community. Hear directly from representatives including Austin Edsel\, Michelle Schultz\, Hunter Griffins\, Zachariah Jauregui\, and Chip Ahlswede\, and gain valuable insight from their respective offices. This is your opportunity to engage\, ask questions\, and be part of the discussion. After registering\, please email your questions in advance to </span></span></span><a class="decorated-link cursor-pointer" data-end="493" data-start="478" rel="noopener" style="color: rgb(0\, 0\, 0)\; font-size: medium\;">HBCOC@HBCOC.com.</a>\n<div>&nbsp\;</div>\n
LOCATION:Huntington Beach Chamber of Commerce is inviting you to a scheduled Zoom meeting. Topic: GAC Legislative Update Time: Feb 24\, 2026 08:00 AM Pacific Time (US and Canada) Join Zoom Meeting https://us02web.zoom.us/j/86742365189?pwd=2odrPOrBMWwJJuGdbQI51TKV1mNeHY.1 Meeting ID: 867 4236 5189 Passcode: 697390 --- One tap mobile +16699009128\,\,86742365189#\,\,\,\,*697390# US (San Jose) +16694449171\,\,86742365189#\,\,\,\,*697390# US Join instructions https://us02web.zoom.us/meetings/86742365189/invitations?signature=df0a49WQxvdNasFgjI2q6vpU6Hn40L4OG041z2wm4XU
UID:e.745.15368
SEQUENCE:3
DTSTAMP:20260423T123335Z
URL:http://chamber.hbchamber.com/events/details/hbcoc-_gac-committee-virtual-legislative-update-briefing-15368
END:VEVENT

END:VCALENDAR
