BEGIN:VCALENDAR
VERSION:2.0
PRODID:-//ChamberMaster//Event Calendar 2.0//EN
METHOD:PUBLISH
X-PUBLISHED-TTL:P3D
REFRESH-INTERVAL:P3D
CALSCALE:GREGORIAN
BEGIN:VEVENT
DTSTART:20260214T010000Z
DTEND:20260214T060000Z
X-MICROSOFT-CDO-ALLDAYEVENT:FALSE
SUMMARY:HBCOC High Seas Honors 121st Gala 2026
DESCRIPTION:An Evening of Celebration\, Recognition\, and Community Excellence\n\nJoin us for an unforgettable evening as we celebrate a year of accomplishments and growth at the High Seas Honors Gala. Pirate  Themed event.  This special event brings together our Annual Gala and the Best of HB Awards for one memorable night honoring the individuals and businesses that help our community thrive.\n\nThe winners of Best of HB will be announced during the gala\, alongside additional prestigious recognitions. Business leaders\, community champions\, finalists\, and supporters will come together to reflect on success\, build meaningful connections\, and celebrate excellence.\n\nEvent Experience\n\nGuests will enjoy an evening featuring dinner and live entertainment\, the presentation of Best of HB Awards\, recognition of outstanding businesses and community leaders\, and opportunities to network with peers and community leaders.\n\nTickets and Tables\n\nFinalists are encouraged to purchase tickets for their team\, family\, and friends. Table purchases are available and include the opportunity to decorate tables with themed d cor.\n\nMembers: $135\n\nNon-Members: $150\n\nTable of 8: $1\,000\n\nTickets may be purchased at the link below.\n\nSponsorship Opportunities\n\nSponsorship opportunities are available for businesses seeking increased visibility while supporting this premier community event.\n\nFor sponsorship information\, please contact:\n\ntfigarsky@hbcoc.com\n\nAttire\n\nPirate-themed attire is encouraged! Prizes will be awarded for the best-dressed individuals in both men's and women's categories.\n\nWe look forward to celebrating with you at this signature evening honoring the people and businesses that make our community exceptional.
X-ALT-DESC;FMTTYPE=text/html:<h2 data-end="174" data-start="107" style="text-align: center\;"><span style="font-size:14px\;"><span style="font-family:arial\;"><strong>An Evening of Celebration\, Recognition\, and Community Excellence</strong></span></span></h2>\n\n<p data-end="474" data-start="176" style="text-align: center\;"><span style="font-size:14px\;"><span style="font-family:arial\;">Join us for an unforgettable evening as we celebrate a year of accomplishments and growth at the High Seas Honors Gala. Pirate&nbsp\;&nbsp\;Themed event.&nbsp\; This special event brings together our Annual Gala and the Best of HB Awards for one memorable night honoring the individuals and businesses that help our community thrive.</span></span></p>\n\n<p data-end="748" data-start="476" style="text-align: center\;"><span style="font-size:14px\;"><span style="font-family:arial\;">The winners of Best of HB will be announced during the gala\, alongside additional prestigious recognitions. Business leaders\, community champions\, finalists\, and supporters will come together to reflect on success\, build meaningful connections\, and celebrate excellence.</span></span></p>\n\n<h3 data-end="770" data-start="750" style="text-align: center\;"><span style="font-size:14px\;"><span style="font-family:arial\;"><strong>Event Experience</strong></span></span></h3>\n\n<p data-end="1005" data-start="771" style="text-align: center\;"><span style="font-size:14px\;"><span style="font-family:arial\;">Guests will enjoy an evening featuring dinner and live entertainment\, the presentation of Best of HB Awards\, recognition of outstanding businesses and community leaders\, and opportunities to network with peers and community leaders.</span></span></p>\n\n<h3 data-end="1029" data-start="1007" style="text-align: center\;"><span style="font-size:14px\;"><span style="font-family:arial\;"><strong>Tickets and Tables</strong></span></span></h3>\n\n<p data-end="1209" data-start="1030" style="text-align: center\;"><span style="font-size:14px\;"><span style="font-family:arial\;">Finalists are encouraged to purchase tickets for their team\, family\, and friends. Table purchases are available and include the opportunity to decorate tables with themed d&eacute\;cor.</span></span></p>\n\n<p style="text-align: center\;"><span style="font-size:14px\;"><span style="font-family:arial\;">Members: $135</span></span></p>\n\n<p style="text-align: center\;"><span style="font-size:14px\;"><span style="font-family:arial\;">Non-Members: $150</span></span></p>\n\n<p style="text-align: center\;"><span style="font-size:14px\;"><span style="font-family:arial\;">Table of 8: $1\,000</span></span></p>\n\n<p data-end="1256" data-start="1211" style="text-align: center\;"><span style="font-size:14px\;"><span style="font-family:arial\;">Tickets may be purchased at the link below.</span></span></p>\n\n<h3 data-end="1287" data-start="1258" style="text-align: center\;"><span style="font-size:14px\;"><span style="font-family:arial\;"><strong>Sponsorship Opportunities</strong></span></span></h3>\n\n<p data-end="1420" data-start="1288" style="text-align: center\;"><span style="font-size:14px\;"><span style="font-family:arial\;">Sponsorship opportunities are available for businesses seeking increased visibility while supporting this premier community event.</span></span></p>\n\n<p data-end="1494" data-start="1422" style="text-align: center\;"><span style="font-size:14px\;"><span style="font-family:arial\;">For sponsorship information\, please contact:<br data-end="1469" data-start="1466" />\n<strong data-end="1492" data-start="1469"><a href="mailto:tfigarsky@hbcoc.com">tfigarsky@hbcoc.com</a></strong></span></span></p>\n\n<h3 data-end="1506" data-start="1496" style="text-align: center\;"><span style="font-size:14px\;"><span style="font-family:arial\;"><strong>Attire</strong></span></span></h3>\n\n<p data-end="1638" data-start="1507" style="text-align: center\;"><span style="font-size:14px\;"><span style="font-family:arial\;">Pirate-themed attire is encouraged! Prizes will be awarded for the best-dressed individuals in both men&rsquo\;s and women&rsquo\;s categories.</span></span></p>\n\n<p data-end="1779" data-start="1640" style="text-align: center\;"><span style="font-size:14px\;"><span style="font-family:arial\;">We look forward to celebrating with you at this signature evening honoring the people and businesses that make our community exceptional.</span></span></p>\n
LOCATION:The Waterfront Beach Resort\, a Hilton Hotel 21100 Pacific Coast Hwy\, Huntington Beach\, CA 92648 Attire: Pirate Attire (Optional ) but encouraged Pirate Themed Event - Contest for Best Dressed Man & Women Pirate theme & Best Decorated Table Pirate Theme
UID:e.745.15292
SEQUENCE:3
DTSTAMP:20260423T134959Z
URL:http://chamber.hbchamber.com/events/details/hbcoc-high-seas-honors-121st-gala-2026-15292
END:VEVENT

END:VCALENDAR
