BEGIN:VCALENDAR
VERSION:2.0
PRODID:-//ChamberMaster//Event Calendar 2.0//EN
METHOD:PUBLISH
X-PUBLISHED-TTL:P3D
REFRESH-INTERVAL:P3D
CALSCALE:GREGORIAN
BEGIN:VEVENT
DTSTART:20251022T183000Z
DTEND:20251022T200000Z
X-MICROSOFT-CDO-ALLDAYEVENT:FALSE
SUMMARY:HBCOC Lunch & Learn
DESCRIPTION:Don't miss out on the last of the Lunch & Learn series this year! We are excited to announce next Lunch & Learn event for 2025! Join us for our session on October 22nd\, where we will dive deep into the digital marketing strategies that will help grow your revenue. Whether you're a Chamber member or a non-member\, this session will provide valuable insights to amplify your brand in the digital space.\nEvent Details\n\nDate: October 22nd\, 2025\n\nLocation: Chamber Office Conference Room\n\nTime: 11:30 AM - 1:00 PM\n\nCost: Free for Chamber Members / $30 for Non-Members\n\nLimited Seats Available   Register Early!\n\nLunch & Learn Sponsored By: Boeing\n\nHosted By: SBDC California
X-ALT-DESC;FMTTYPE=text/html:Don&#39\;t miss out on the last of the Lunch &amp\; Learn series this year!&nbsp\;<span style="text-align: center\;">We are excited to announce next Lunch &amp\; Learn event for 2025! Join us for our session on October 22nd\, where we will dive deep into the digital marketing strategies that will help grow your revenue. Whether you&#39\;re a Chamber member or a non-member\, this session will provide valuable insights to amplify your brand in the digital space.</span>\n<p style="text-align: center\;">Event Details<br />\nDate: October 22nd\, 2025<br />\nLocation: Chamber Office Conference Room<br />\nTime: 11:30 AM - 1:00 PM</p>\n\n<p style="text-align: center\;">Cost: Free for Chamber Members / $30 for Non-Members<br />\nLimited Seats Available &ndash\; Register Early!</p>\n\n<p style="text-align: center\;">Lunch &amp\; Learn Sponsored By: Boeing<br />\nHosted By: SBDC California</p>\n
LOCATION:Huntington Beach Chamber office on Golden West College Campus Goldenwest College Administration room 138 15744 Goldenwest Street Administration Building room 137-138 Huntington Beach CA\, 92648 CAMPUS MAP Parking at Golden West college is $5 had has to be paid via their Passport Parking App. Parking lots F & G along Edinger Ave. are closest to the Chamber office.
UID:e.745.15343
SEQUENCE:3
DTSTAMP:20260423T184708Z
URL:http://chamber.hbchamber.com/events/details/hbcoc-lunch-learn-15343
END:VEVENT

END:VCALENDAR
