BEGIN:VCALENDAR
VERSION:2.0
PRODID:-//ChamberMaster//Event Calendar 2.0//EN
METHOD:PUBLISH
X-PUBLISHED-TTL:P3D
REFRESH-INTERVAL:P3D
CALSCALE:GREGORIAN
BEGIN:VEVENT
DTSTART:20260122T003000Z
DTEND:20260122T023000Z
X-MICROSOFT-CDO-ALLDAYEVENT:FALSE
SUMMARY:HBCOC Mix & Mingle- Solita Tacos & Margaritas
DESCRIPTION:Mix\, Mingle\, and Margarita at Solita\nKick off the new year with great conversations\, fresh connections\, and a vibrant sense of community at our January Mix & Mingle\, hosted by Chamber member Solita Tacos & Margaritas.\n\nJoin fellow professionals\, business owners\, and local leaders for an evening designed to spark meaningful relationships in a relaxed and welcoming setting. Whether you are looking to expand your network\, explore new business opportunities\, or simply enjoy great food and friendly faces\, this event offers the perfect opportunity to connect.\n\nWhat to Expect\n\nCasual networking with Chamber members and guests\n\nDelicious small bites provided by Solita\n\nA lively\, social atmosphere ideal for making new connections\n\nBring your business cards\, invite a friend\, and come ready to engage with your local business community.\n\nJanuary 21st\n\n4:30 PM to 6:30 PM\n\nRSVP today to secure your spot. Click the link for full details and registration. We look forward to seeing you there.
X-ALT-DESC;FMTTYPE=text/html:<div data-olk-copy-source="MailCompose" style="color: rgb(51\, 51\, 51)\; margin-top: 1em\; margin-bottom: 1em\; font-family: Aptos\, Aptos_EmbeddedFont\, Aptos_MSFontService\, Calibri\, Helvetica\, sans-serif\; font-size: 12pt\;"><span style="font-size:14px\;"><span style="font-family:arial\;">Mix\, Mingle\, and Margarita at Solita</span></span>\n<p data-end="228" data-start="48"><span style="font-size:14px\;"><span style="font-family:arial\;">Kick off the new year with great conversations\, fresh connections\, and a vibrant sense of community at our January Mix &amp\; Mingle\, hosted by Chamber member Solita Tacos &amp\; Margaritas.</span></span></p>\n\n<p data-end="570" data-start="230"><span style="font-size:14px\;"><span style="font-family:arial\;">Join fellow professionals\, business owners\, and local leaders for an evening designed to spark meaningful relationships in a relaxed and welcoming setting. Whether you are looking to expand your network\, explore new business opportunities\, or simply enjoy great food and friendly faces\, this event offers the perfect opportunity to connect.</span></span></p>\n\n<p data-end="750" data-start="572"><span style="font-size:14px\;"><span style="font-family:arial\;"><strong data-end="590" data-start="572">What to Expect</strong><br data-end="593" data-start="590" />\nCasual networking with Chamber members and guests<br data-end="645" data-start="642" />\nDelicious small bites provided by Solita<br data-end="688" data-start="685" />\nA lively\, social atmosphere ideal for making new connections</span></span></p>\n\n<p data-end="856" data-start="752"><span style="font-size:14px\;"><span style="font-family:arial\;">Bring your business cards\, invite a friend\, and come ready to engage with your local business community.</span></span></p>\n\n<p data-end="893" data-start="858"><span style="font-size:14px\;"><span style="font-family:arial\;">January 21st<br data-end="873" data-start="870" />\n4:30 PM to 6:30 PM</span></span></p>\n\n<p data-end="1013" data-is-last-node="" data-is-only-node="" data-start="895"><span style="font-size:14px\;"><span style="font-family:arial\;">RSVP today to secure your spot. Click the link for full details and registration. We look forward to seeing you there.</span></span></p>\n</div>\n
LOCATION:Solita Tacos & Margaritas 7631 Edinger Ave HB 92647
UID:e.745.15359
SEQUENCE:3
DTSTAMP:20260423T135100Z
URL:http://chamber.hbchamber.com/events/details/hbcoc-mix-mingle-solita-tacos-margaritas-15359
END:VEVENT

END:VCALENDAR
