BEGIN:VCALENDAR
VERSION:2.0
PRODID:-//ChamberMaster//Event Calendar 2.0//EN
METHOD:PUBLISH
X-PUBLISHED-TTL:P3D
REFRESH-INTERVAL:P3D
CALSCALE:GREGORIAN
BEGIN:VEVENT
DTSTART:20251031T010000Z
DTEND:20251031T040000Z
X-MICROSOFT-CDO-ALLDAYEVENT:FALSE
SUMMARY:Huntington Beach Host Lions Oktoberfest Fundraiser
DESCRIPTION:Oktoberfest HUNTINGTON BEACH HOST LIONS 33rd 33rd $$3030 DINNER & ENTRY TICKET CHOICE OF CHICKEN\, BRATWURST OR VEGAN OPTION\, 2 SIDES & 1 DRINK (BEER\, WINE OR SODA) DOES NOT INCLUDE DESSERT Thursday October 30th Thursday October 30th SPECIAL OFFER - PREORDER A TABLE OF 8 FOR THE PRICE OF 7 - $210 HELP LIONS SUPPORT LOCAL CHARITIES AND ORGANIZATIONS
X-ALT-DESC;FMTTYPE=text/html:Oktoberfest HUNTINGTON BEACH HOST LIONS 33rd 33rd $$3030 DINNER &amp\; ENTRY TICKET CHOICE OF CHICKEN\, BRATWURST OR VEGAN OPTION\, 2 SIDES &amp\; 1 DRINK (BEER\, WINE OR SODA) DOES NOT INCLUDE DESSERT Thursday October 30th Thursday October 30th SPECIAL OFFER - PREORDER A TABLE OF 8 FOR THE PRICE OF 7 - $210 HELP LIONS SUPPORT LOCAL CHARITIES AND ORGANIZATIONS
LOCATION:Old World Huntington Beach
UID:e.745.15351
SEQUENCE:3
DTSTAMP:20260423T184914Z
URL:http://chamber.hbchamber.com/events/details/huntington-beach-host-lions-oktoberfest-fundraiser-15351
END:VEVENT

END:VCALENDAR
