BEGIN:VCALENDAR
VERSION:2.0
PRODID:-//ChamberMaster//Event Calendar 2.0//EN
METHOD:PUBLISH
X-PUBLISHED-TTL:P3D
REFRESH-INTERVAL:P3D
CALSCALE:GREGORIAN
BEGIN:VEVENT
DTSTART;VALUE=DATE:20251024
DTEND;VALUE=DATE:20251026
TRANSP:TRANSPARENT
X-MICROSOFT-CDO-ALLDAYEVENT:TRUE
SUMMARY:Huntington Harbor Philharmonic Committee Presents the 2025 Holiday Boutique
DESCRIPTION:Huntington Harbour Annual Holiday Boutique. Join us for a fun event and get a head start on your Holiday Shopping.  Mark your calendar for October 24-25 for a shopping extravaganza at the Huntington Harbour Mall.  Enjoy fabulous opportunity prices and many spectacular vendors showcasing their unique products.  This is a holiday boutique you won't want to miss!
X-ALT-DESC;FMTTYPE=text/html:Huntington Harbour Annual Holiday Boutique. Join us for a fun event and get a head start on your Holiday Shopping. &nbsp\;Mark your calendar for October 24-25 for a shopping extravaganza at the Huntington Harbour Mall. &nbsp\;Enjoy fabulous opportunity prices and many spectacular vendors showcasing their unique products. &nbsp\;This is a holiday boutique you won&#39\;t want to miss!
LOCATION:Huntington Harbor Mall 16897 Algonquin Street Huntington Beach\, CA
UID:e.745.15349
SEQUENCE:3
DTSTAMP:20260423T184947Z
URL:http://chamber.hbchamber.com/events/details/huntington-harbor-philharmonic-committee-presents-the-2025-holiday-boutique-15349
END:VEVENT

END:VCALENDAR
