BEGIN:VCALENDAR
VERSION:2.0
PRODID:-//ChamberMaster//Event Calendar 2.0//EN
METHOD:PUBLISH
X-PUBLISHED-TTL:P3D
REFRESH-INTERVAL:P3D
CALSCALE:GREGORIAN
BEGIN:VEVENT
DTSTART:20250626T000000Z
DTEND:20250626T020000Z
X-MICROSOFT-CDO-ALLDAYEVENT:FALSE
SUMMARY:Joint Mix & Mingle - June 25th at 11th Floor
DESCRIPTION:11th Floor Mix & Mingle with the Westminster Chamber of Commerce\n\nJoin us for an evening of networking\, collaboration\, and connection at our upcoming 11th Floor Mix & Mingle event\, hosted in partnership with the Westminster Chamber of Commerce.\n\nDate: Wednesday\, June 25\, 2025\n\nTime: 5:00 PM   7:00 PM\n\nLocation: 11th Floor\, 7755 Center Ave\, Huntington Beach\, CA 92647\n\nConnect with local professionals and business leaders in a relaxed\, high-energy atmosphere. Enjoy small bites and samples provided by BJ's Restaurant & Brewhouse as you build valuable relationships with fellow attendees.\n\nCo-Sponsored by\n\nBJ's Restaurant & Brewhouse\n\nBoldtB2B Consulting\n\nCoast Huntington Business Suites\n\nAdmission\n\nMembers: Free\n\nNon-Members: $25\n\nAdvance registration is encouraged. We look forward to seeing you there.\n\nReserve your spot today!
X-ALT-DESC;FMTTYPE=text/html:<h3 data-end="181" data-start="109"><strong data-end="181" data-start="113">11th Floor Mix &amp\; Mingle with the Westminster Chamber of Commerce</strong></h3>\n\n<p data-end="365" data-start="183">Join us for an evening of networking\, collaboration\, and connection at our upcoming <strong data-end="294" data-start="267">11th Floor Mix &amp\; Mingle</strong> event\, hosted in partnership with the Westminster Chamber of Commerce.</p>\n\n<p data-end="503" data-start="367"><strong data-end="376" data-start="367">Date:</strong> Wednesday\, June 25\, 2025<br data-end="404" data-start="401" />\n<strong data-end="413" data-start="404">Time:</strong> 5:00 PM &ndash\; 7:00 PM<br data-end="434" data-start="431" />\n<strong data-end="447" data-start="434">Location:</strong> 11th Floor\, 7755 Center Ave\, Huntington Beach\, CA 92647</p>\n\n<p data-end="729" data-start="505">Connect with local professionals and business leaders in a relaxed\, high-energy atmosphere. Enjoy small bites and samples provided by <strong data-end="670" data-start="639">BJ&rsquo\;s Restaurant &amp\; Brewhouse</strong> as you build valuable relationships with fellow attendees.</p>\n\n<p data-end="837" data-start="731"><strong data-end="750" data-start="731">Co-Sponsored by</strong><br data-end="753" data-start="750" />\nBJ&rsquo\;s Restaurant &amp\; Brewhouse<br data-end="783" data-start="780" />\nBoldtB2B Consulting<br data-end="805" data-start="802" />\nCoast Huntington Business Suites</p>\n\n<p data-end="887" data-start="839"><strong data-end="852" data-start="839">Admission</strong><br data-end="855" data-start="852" />\nMembers: Free<br data-end="871" data-start="868" />\nNon-Members: $25</p>\n\n<p data-end="961" data-start="889">Advance registration is encouraged. We look forward to seeing you there.</p>\n\n<p data-end="991" data-start="963"><strong data-end="991" data-start="963">Reserve your spot today!</strong></p>\n
LOCATION:11th Floor of 7755 Center Ave Huntington Beach\, CA 92647
UID:e.745.14921
SEQUENCE:3
DTSTAMP:20260423T234142Z
URL:http://chamber.hbchamber.com/events/details/joint-mix-mingle-june-25th-at-11th-floor-14921
END:VEVENT

END:VCALENDAR
