BEGIN:VCALENDAR
VERSION:2.0
PRODID:-//ChamberMaster//Event Calendar 2.0//EN
METHOD:PUBLISH
X-PUBLISHED-TTL:P3D
REFRESH-INTERVAL:P3D
CALSCALE:GREGORIAN
BEGIN:VEVENT
DTSTART:20250226T193000Z
DTEND:20250226T210000Z
X-MICROSOFT-CDO-ALLDAYEVENT:FALSE
SUMMARY:Lunch & Learn
DESCRIPTION:Lunch & Learn Series: Mastering Digital Marketing  Strategies to Amplify Your Brand in 2025\n\n\nWe are excited to announce our upcoming Lunch & Learn series for 2025! Join us for our first session on February 26th\, where we will dive deep into the digital marketing strategies that will help accelerate your business growth. Whether you're a Chamber member or a non-member\, this session will provide valuable insights to amplify your brand in the digital space.\n\nEvent Details\n\nDate: February 26th\, 2025\n\nLocation: Chamber Office Conference Room\n\nTime: 11:30 AM - 1:00 PM\n\nCost: Free for Chamber Members / $30 for Non-Members\n\nLimited Seats Available   Register Early!\n\nLunch & Learn Sponsored By: Boeing\n\nHosted By: SBDC California\n\nTopic: Mastering Digital Marketing: Strategies to Amplify Your Brand in 2025\n\nIn this exclusive session\, you'll uncover insider secrets to skyrocket your business success through cutting-edge marketing strategies. This will be your chance to stay ahead of the curve in the fast-paced world of digital marketing.\n\nKey Takeaways:\n\nNavigate the Digital Landscape   Stay up to date with the latest trends shaping digital marketing and how to stay ahead of the competition.\n\nOptimize for Impact   Learn actionable strategies to enhance your brand's online visibility\, engagement\, and conversion rates.\n\nReal-World Tactics   Watch live demos and discover tools and techniques that drive results across social media\, SEO\, and content marketing.\n\nDon't miss this opportunity to take your marketing to the next level in 2025. Seats are limited\, so be sure to register today!\n\nRegistration: To sign up\, please visit Chamber Master and reserve your spot.\n\nComplimentary lunch will be provided to all attendees\, thanks to our generous sponsor\, Boeing.\n\nWe look forward to seeing you at the first Lunch & Learn of the year!
X-ALT-DESC;FMTTYPE=text/html:<h6 class="sppb-addon-title" style="box-sizing: border-box\; font-family: &quot\;Open Sans&quot\;\, sans-serif\; font-weight: 800\; line-height: 34px\; margin-top: 10px\; margin-bottom: 10px\; font-size: 34px\; text-align: center\;"><span style="font-size:14px\;"><span style="font-family:arial\;">Lunch &amp\; Learn Series: Mastering Digital Marketing &ndash\;Strategies to Amplify Your Brand in 2025</span></span></h6>\n\n<div class="sppb-addon-content" style="box-sizing: border-box\; font-family: &quot\;Open Sans&quot\;\, sans-serif\; font-size: 14px\; text-align: center\;">\n<p style="box-sizing: border-box\; margin: 0px 0px 10px\;">We are excited to announce our upcoming Lunch &amp\; Learn series for 2025! Join us for our first session on February 26th\, where we will dive deep into the digital marketing strategies that will help accelerate your business growth. Whether you&#39\;re a Chamber member or a non-member\, this session will provide valuable insights to amplify your brand in the digital space.</p>\n\n<p style="box-sizing: border-box\; margin: 0px 0px 10px\;">Event Details<br style="box-sizing: border-box\;" />\nDate: February 26th\, 2025<br style="box-sizing: border-box\;" />\nLocation: Chamber Office Conference Room<br style="box-sizing: border-box\;" />\nTime: 11:30 AM - 1:00 PM<br style="box-sizing: border-box\;" />\nCost: Free for Chamber Members / $30 for Non-Members<br style="box-sizing: border-box\;" />\nLimited Seats Available &ndash\; Register Early!</p>\n\n<p style="box-sizing: border-box\; margin: 0px 0px 10px\;">Lunch &amp\; Learn Sponsored By: Boeing<br style="box-sizing: border-box\;" />\nHosted By: SBDC California</p>\n\n<p style="box-sizing: border-box\; margin: 0px 0px 10px\;">Topic:&nbsp\;<em style="box-sizing: border-box\;">Mastering Digital Marketing: Strategies to Amplify Your Brand in 2025</em><br style="box-sizing: border-box\;" />\nIn this exclusive session\, you&#39\;ll uncover insider secrets to skyrocket your business success through cutting-edge marketing strategies. This will be your chance to stay ahead of the curve in the fast-paced world of digital marketing.</p>\n\n<h3 style="box-sizing: border-box\; line-height: 1.1\; color: inherit\; margin-top: 20px\; margin-bottom: 10px\; font-size: 24px\;">Key Takeaways:</h3>\n\n<p style="box-sizing: border-box\; margin: 0px 0px 10px\;">Navigate the Digital Landscape &ndash\; Stay up to date with the latest trends shaping digital marketing and how to stay ahead of the competition.</p>\n\n<p style="box-sizing: border-box\; margin: 0px 0px 10px\;">Optimize for Impact &ndash\; Learn actionable strategies to enhance your brand&rsquo\;s online visibility\, engagement\, and conversion rates.</p>\n\n<p style="box-sizing: border-box\; margin: 0px 0px 10px\;">Real-World Tactics &ndash\; Watch live demos and discover tools and techniques that drive results across social media\, SEO\, and content marketing.</p>\n\n<p style="box-sizing: border-box\; margin: 0px 0px 10px\;">Don&#39\;t miss this opportunity to take your marketing to the next level in 2025. Seats are limited\, so be sure to register today!</p>\n\n<p style="box-sizing: border-box\; margin: 0px 0px 10px\;">Registration: To sign up\, please visit Chamber Master and reserve your spot.</p>\n\n<p style="box-sizing: border-box\; margin: 0px 0px 10px\;">Complimentary lunch will be provided to all attendees\, thanks to our generous sponsor\, Boeing.</p>\n\n<p style="box-sizing: border-box\; margin: 0px 0px 10px\;">We look forward to seeing you at the first Lunch &amp\; Learn of the year!</p>\n</div>\n
LOCATION:Chamber office Meeting Room Goldenwest College Administration room 138 15744 Goldenwest Street Administration Building room 137-138 Huntington Beach CA\, 92648
UID:e.745.15295
SEQUENCE:3
DTSTAMP:20260424T033751Z
URL:http://chamber.hbchamber.com/events/details/lunch-learn-15295
END:VEVENT

END:VCALENDAR
