BEGIN:VCALENDAR
VERSION:2.0
PRODID:-//ChamberMaster//Event Calendar 2.0//EN
METHOD:PUBLISH
X-PUBLISHED-TTL:P3D
REFRESH-INTERVAL:P3D
CALSCALE:GREGORIAN
BEGIN:VEVENT
DTSTART;VALUE=DATE:20010908
DTEND;VALUE=DATE:20010910
TRANSP:TRANSPARENT
X-MICROSOFT-CDO-ALLDAYEVENT:TRUE
SUMMARY:Surf City Business Expo 9/8/2001
DESCRIPTION:
X-ALT-DESC;FMTTYPE=text/html:
LOCATION:at the Pier
UID:e.745.25
SEQUENCE:3
DTSTAMP:20260419T171818Z
URL:http://chamber.hbchamber.com/events/details/surf-city-business-expo-9-8-2001-09-08-2001-25
END:VEVENT

END:VCALENDAR
