BEGIN:VCALENDAR
VERSION:2.0
PRODID:-//ChamberMaster//Event Calendar 2.0//EN
METHOD:PUBLISH
X-PUBLISHED-TTL:P3D
REFRESH-INTERVAL:P3D
CALSCALE:GREGORIAN
BEGIN:VEVENT
DTSTART:20210709T150000Z
DTEND:20210709T160000Z
X-MICROSOFT-CDO-ALLDAYEVENT:FALSE
SUMMARY:AM Connect
DESCRIPTION:We invite you to join us for our in-person A.M. Connect! Featured Guest Speakers Tim McGrath (Golden West College)\, Owen Crosby (HBUHSD) and Kathleen Pratt (Workplace Legal APLC) will share updates pertaining to the upcoming school year for high school and college students\, as well as new laws and workplace guidelines recently implemented by CalOSHA. \n\nIn addition\, a 4th of July event recap will be provided by Interim Police Chief Harvey.\n\nAttendees can enjoy breakfast and hot coffee\, courtesy of Love at First Bite Catering!\n\n\n\nDon't forget to represent your company by bringing a door prize for the drawing! All attendees are entered to win the raffle prizes brought in by other business representatives.
X-ALT-DESC;FMTTYPE=text/html:<p class="_04xlpA direction-ltr align-start para-style-body" style="line-height: 1.1\; font-family: &quot\;YACgETiWKS8 0&quot\;\, _fb_\, auto\; font-size: 17.3334px\;"><span style="font-size:14px\;"><span style="font-family:arial\;"><span class="JsGRdQ">We invite you to join us for our in-person A.M. Connect! Featured Guest Speakers Tim McGrath (Golden West College)\, Owen Crosby (HBUHSD) and Kathleen Pratt (Workplace Legal APLC) will share updates pertaining to the upcoming school year for high school and college students\, as well as new laws and workplace guidelines recently implemented by CalOSHA.</span><span class="JsGRdQ white-space-prewrap"> </span></span></span></p>\n\n<p class="_04xlpA direction-ltr align-start para-style-body" style="line-height: 1.1\; font-family: &quot\;YACgETiWKS8 0&quot\;\, _fb_\, auto\; font-size: 17.3334px\;"><span style="font-size:14px\;"><span style="font-family:arial\;"><span class="JsGRdQ">In addition\, a 4th of July event recap will be provided by Interim Police Chief Harvey.</span></span></span></p>\n\n<p class="_04xlpA direction-ltr align-start para-style-body" style="line-height: 1.1\; font-family: &quot\;YACgETiWKS8 0&quot\;\, _fb_\, auto\; font-size: 17.3333px\;"><span style="font-size:14px\;"><span style="font-family:arial\;"><span class="JsGRdQ">Attendees can enjoy breakfast and hot coffee\, courtesy of Love at First Bite Catering!</span></span></span><br />\n<br />\n<span style="font-family:arial\;"><span style="color: rgb(0\, 0\, 0)\; font-size: 14px\;">Don&#39\;t forget to represent your company by bringing a door prize for the drawing!&nbsp\;All attendees are entered to win the raffle prizes brought in by other business representatives.</span></span></p>\n
LOCATION:In-Person/Outdoor Event: PLEASE NOTE NEW LOCATION! HB Police Dept. Training Room A (right across from the City Council Chambers) 2000 Main Street Huntington Beach\, CA 92648
UID:e.745.14469
SEQUENCE:3
DTSTAMP:20260422T083727Z
URL:https://chamber.hbchamber.com/events/details/am-connect-14469
END:VEVENT

END:VCALENDAR
