BEGIN:VCALENDAR
VERSION:2.0
PRODID:-//ChamberMaster//Event Calendar 2.0//EN
METHOD:PUBLISH
X-PUBLISHED-TTL:P3D
REFRESH-INTERVAL:P3D
CALSCALE:GREGORIAN
BEGIN:VEVENT
DTSTART:20251112T153000Z
DTEND:20251112T173000Z
X-MICROSOFT-CDO-ALLDAYEVENT:FALSE
SUMMARY:HBCOC 2025 State of the City
DESCRIPTION:About the State of the City 2025\n\n \n\nWe invite you to the annual State of the City event on November 12th from 8 AM to 9:30 AM at the Huntington Beach Senior Center. Join the Honorable Mayor Pat Burns as he recaps the accomplishments of 2025 and shares an exciting glimpse of what's in store for 2026.\n\nEnjoy a delicious breakfast buffet provided by Love at First Bite for all attendees who have purchased admission. This is a fantastic opportunity to connect with fellow community members and stay informed about the progress and future of our city.\n\nDon't miss out on this engaging morning! Sign up online at hbchamber.com to secure your spot. We're looking forward to seeing you there!
X-ALT-DESC;FMTTYPE=text/html:<p dir="ltr" style="line-height: 1.38\; margin-top: 0pt\; margin-bottom: 0pt\;"><font color="#990033" face="Arial"><span style="font-size: 24.6667px\; white-space-collapse: preserve\;"><b><i>About the State of the City 2025</i></b></span></font><br />\n&nbsp\;</p>\n\n<p>We invite you to the annual State of the City event on November 12th from 8 AM to 9:30 AM at the Huntington Beach Senior Center. Join the Honorable Mayor Pat Burns as he recaps the accomplishments of 2025 and shares an exciting glimpse of what&rsquo\;s in store for 2026.</p>\n\n<p>Enjoy a delicious breakfast buffet provided by Love at First Bite for all attendees who have purchased admission. This is a fantastic opportunity to connect with fellow community members and stay informed about the progress and future of our city.</p>\n\n<p>Don&rsquo\;t miss out on this engaging morning! Sign up online at&nbsp\;<a href="http://hbchamber.com" rel="noopener" style="color: rgb(7\, 130\, 193)\;" target="_new">hbchamber.com</a>&nbsp\;to secure your spot. We&rsquo\;re looking forward to seeing you there!</p>\n\n<div>&nbsp\;</div>\n
LOCATION:The Huntington Beach Senior Center 18041 Goldenwest St\, Huntington Beach\, CA 92648
UID:e.745.15293
SEQUENCE:3
DTSTAMP:20260424T153413Z
URL:https://chamber.hbchamber.com/events/details/hbcoc-2025-state-of-the-city-15293
END:VEVENT

END:VCALENDAR
