BEGIN:VCALENDAR
VERSION:2.0
PRODID:-//ChamberMaster//Event Calendar 2.0//EN
METHOD:PUBLISH
X-PUBLISHED-TTL:P3D
REFRESH-INTERVAL:P3D
CALSCALE:GREGORIAN
BEGIN:VEVENT
DTSTART:20260409T143000Z
DTEND:20260409T160000Z
X-MICROSOFT-CDO-ALLDAYEVENT:FALSE
SUMMARY:HBCOC AM Connect
DESCRIPTION:Partnering for a Better Permitting Experience\n\n\n\nThe Huntington Beach Chamber of Commerce\, in partnership with the City of Huntington Beach\, invites you to take part in a focused listening session centered on the Zoning Administrator and Conditional Use Permit (CUP) processes.\n\nThis is an opportunity to share your firsthand experience and help shape a more efficient\, transparent\, and business-friendly permitting environment. We're bringing the business community and City leadership together to better understand what's working\, where challenges exist\, and how we can improve moving forward.\n\nYour feedback will directly inform future conversations and help drive meaningful improvements to the permitting process.\n\nAdmission is free with registration. Breakfast will be provided by Moonwood Coffee Co.\, and the event is proudly sponsored by City of Hope Orange County.\n\nThis session is ideal for business owners\, developers\, brokers\, and contractors who have experience navigating the current process or are planning to in the future. Together\, we will discuss experiences with the current Zoning Administrator and CUP processes\, identify pain points and bottlenecks\, explore opportunities for improvement\, and share ideas for clearer communication and greater predictability.\n\nSeats are limited\, reserve your spot and be part of the conversation shaping the future of doing business in Huntington Beach.
X-ALT-DESC;FMTTYPE=text/html:<p data-end="391" data-start="163"><span style="font-size:14px\;"><span style="font-family:arial\;"><strong>Partnering for a Better Permitting Experience</strong><br />\n<br />\nThe Huntington Beach Chamber of Commerce\, in partnership with the City of Huntington Beach\, invites you to take part in a focused listening session centered on the Zoning Administrator and Conditional Use Permit (CUP) processes.</span></span></p>\n\n<p data-end="709" data-start="393"><span style="font-size:14px\;"><span style="font-family:arial\;">This is an opportunity to share your firsthand experience and help shape a more efficient\, transparent\, and business-friendly permitting environment. We&rsquo\;re bringing the business community and City leadership together to better understand what&rsquo\;s working\, where challenges exist\, and how we can improve moving forward.</span></span></p>\n\n<p data-end="832" data-start="711"><span style="font-size:14px\;"><span style="font-family:arial\;">Your feedback will directly inform future conversations and help drive meaningful improvements to the permitting process.</span></span></p>\n\n<p data-end="987" data-start="834"><span style="font-size:14px\;"><span style="font-family:arial\;">Admission is free with registration. Breakfast will be provided by Moonwood Coffee Co.\, and the event is proudly sponsored by City of Hope Orange County.</span></span></p>\n\n<p data-end="1395" data-start="989"><span style="font-size:14px\;"><span style="font-family:arial\;">This session is ideal for business owners\, developers\, brokers\, and contractors who have experience navigating the current process or are planning to in the future. Together\, we will discuss experiences with the current Zoning Administrator and CUP processes\, identify pain points and bottlenecks\, explore opportunities for improvement\, and share ideas for clearer communication and greater predictability.</span></span></p>\n\n<p data-end="1523" data-is-last-node="" data-is-only-node="" data-start="1397"><span style="font-size:14px\;"><span style="font-family:arial\;">Seats are limited\, reserve your spot and be part of the conversation shaping the future of doing business in Huntington Beach.</span></span></p>\n
LOCATION:Golden West College Criminal Justice MPR Parking Lot off Gothard Street Huntington Beach Parking Lot H
UID:e.745.15370
SEQUENCE:3
DTSTAMP:20260424T150348Z
URL:https://chamber.hbchamber.com/events/details/hbcoc-sunrise-sessions-15370
END:VEVENT

END:VCALENDAR
